Workbook

Sheet README
A1: Build a Basic Forecast Model
A2: Create a 12-month customer and revenue forecast with scenarios and model checks.
A5: Field | B5: Details
A6: Data safety | B6: All included records are synthetic and created for training.
A7: How to use | B7: Review the Instructions sheet, then edit only cells marked as inputs.
A8: Evidence | B8: See Test Log, Failure Log, Version History, and the project summary sheet.
A9: Compatibility | B9: Built as an .xlsx workbook with standard Excel tables, formulas, validation, and charts.
A10: Limitations | B10: Educational project artifact. It is not a live production system or professional advice.
A11: Attribution | B11: Workbook design created for Learn By Projects. Microsoft Excel feature references appear in the companion article.
A12: Practice data | B12: All examples use made-up practice data that contains no real personal information.

Sheet Instructions
A1: Instructions
A2: Follow these steps in order. Input cells use a light-yellow fill where applicable.
A5: Step | B5: Action | C5: Expected evidence
A6: 1 | B6: Review assumptions. | C6: Labeled values and sources.
A7: 2 | B7: Select scenario. | C7: Base, downside, or upside.
A8: 3 | B8: Review roll-forward and checks. | C8: No negative customers or broken links.

Sheet Assumptions
A1: Assumptions
A2: Synthetic scenario inputs.
A5: Scenario | B5: Starting Customers | C5: Monthly Additions | D5: Monthly Churn | E5: Price | G5: Selected Scenario
A6: Base | B6: 100 | C6: 12 | D6: 0.05 | E6: 25 | G6: Base
A7: Downside | B7: 100 | C7: 8 | D7: 0.08 | E7: 23
A8: Upside | B8: 100 | C8: 16 | D8: 0.03 | E8: 27

Sheet Forecast
A1: 12-Month Forecast
A2: Customer roll-forward and revenue.
A5: Month | B5: Beginning Customers | C5: New Customers | D5: Churned Customers | E5: Ending Customers | F5: Price | G5: Revenue | H5: Check
A6: 46327 | B6: =INDEX(Assumptions!$B$6:$B$8,MATCH(Assumptions!$G$6,Assumptions!$A$6:$A$8,0)) | C6: =INDEX(Assumptions!$C$6:$C$8,MATCH(Assumptions!$G$6,Assumptions!$A$6:$A$8,0)) | D6: =ROUND(B6*INDEX(Assumptions!$D$6:$D$8,MATCH(Assumptions!$G$6,Assumptions!$A$6:$A$8,0)),0) | E6: =MAX(0,B6+C6-D6) | F6: =INDEX(Assumptions!$E$6:$E$8,MATCH(Assumptions!$G$6,Assumptions!$A$6:$A$8,0)) | G6: =E6*F6 | H6: =IF(B6+C6-D6=E6,"OK","FAIL")
A7: =EDATE(A6,1) | B7: =E6 | C7: =INDEX(Assumptions!$C$6:$C$8,MATCH(Assumptions!$G$6,Assumptions!$A$6:$A$8,0)) | D7: =ROUND(B7*INDEX(Assumptions!$D$6:$D$8,MATCH(Assumptions!$G$6,Assumptions!$A$6:$A$8,0)),0) | E7: =MAX(0,B7+C7-D7) | F7: =INDEX(Assumptions!$E$6:$E$8,MATCH(Assumptions!$G$6,Assumptions!$A$6:$A$8,0)) | G7: =E7*F7 | H7: =IF(B7+C7-D7=E7,"OK","FAIL")
A8: =EDATE(A7,1) | B8: =E7 | C8: =INDEX(Assumptions!$C$6:$C$8,MATCH(Assumptions!$G$6,Assumptions!$A$6:$A$8,0)) | D8: =ROUND(B8*INDEX(Assumptions!$D$6:$D$8,MATCH(Assumptions!$G$6,Assumptions!$A$6:$A$8,0)),0) | E8: =MAX(0,B8+C8-D8) | F8: =INDEX(Assumptions!$E$6:$E$8,MATCH(Assumptions!$G$6,Assumptions!$A$6:$A$8,0)) | G8: =E8*F8 | H8: =IF(B8+C8-D8=E8,"OK","FAIL")
A9: =EDATE(A8,1) | B9: =E8 | C9: =INDEX(Assumptions!$C$6:$C$8,MATCH(Assumptions!$G$6,Assumptions!$A$6:$A$8,0)) | D9: =ROUND(B9*INDEX(Assumptions!$D$6:$D$8,MATCH(Assumptions!$G$6,Assumptions!$A$6:$A$8,0)),0) | E9: =MAX(0,B9+C9-D9) | F9: =INDEX(Assumptions!$E$6:$E$8,MATCH(Assumptions!$G$6,Assumptions!$A$6:$A$8,0)) | G9: =E9*F9 | H9: =IF(B9+C9-D9=E9,"OK","FAIL")
A10: =EDATE(A9,1) | B10: =E9 | C10: =INDEX(Assumptions!$C$6:$C$8,MATCH(Assumptions!$G$6,Assumptions!$A$6:$A$8,0)) | D10: =ROUND(B10*INDEX(Assumptions!$D$6:$D$8,MATCH(Assumptions!$G$6,Assumptions!$A$6:$A$8,0)),0) | E10: =MAX(0,B10+C10-D10) | F10: =INDEX(Assumptions!$E$6:$E$8,MATCH(Assumptions!$G$6,Assumptions!$A$6:$A$8,0)) | G10: =E10*F10 | H10: =IF(B10+C10-D10=E10,"OK","FAIL")
A11: =EDATE(A10,1) | B11: =E10 | C11: =INDEX(Assumptions!$C$6:$C$8,MATCH(Assumptions!$G$6,Assumptions!$A$6:$A$8,0)) | D11: =ROUND(B11*INDEX(Assumptions!$D$6:$D$8,MATCH(Assumptions!$G$6,Assumptions!$A$6:$A$8,0)),0) | E11: =MAX(0,B11+C11-D11) | F11: =INDEX(Assumptions!$E$6:$E$8,MATCH(Assumptions!$G$6,Assumptions!$A$6:$A$8,0)) | G11: =E11*F11 | H11: =IF(B11+C11-D11=E11,"OK","FAIL")
A12: =EDATE(A11,1) | B12: =E11 | C12: =INDEX(Assumptions!$C$6:$C$8,MATCH(Assumptions!$G$6,Assumptions!$A$6:$A$8,0)) | D12: =ROUND(B12*INDEX(Assumptions!$D$6:$D$8,MATCH(Assumptions!$G$6,Assumptions!$A$6:$A$8,0)),0) | E12: =MAX(0,B12+C12-D12) | F12: =INDEX(Assumptions!$E$6:$E$8,MATCH(Assumptions!$G$6,Assumptions!$A$6:$A$8,0)) | G12: =E12*F12 | H12: =IF(B12+C12-D12=E12,"OK","FAIL")
A13: =EDATE(A12,1) | B13: =E12 | C13: =INDEX(Assumptions!$C$6:$C$8,MATCH(Assumptions!$G$6,Assumptions!$A$6:$A$8,0)) | D13: =ROUND(B13*INDEX(Assumptions!$D$6:$D$8,MATCH(Assumptions!$G$6,Assumptions!$A$6:$A$8,0)),0) | E13: =MAX(0,B13+C13-D13) | F13: =INDEX(Assumptions!$E$6:$E$8,MATCH(Assumptions!$G$6,Assumptions!$A$6:$A$8,0)) | G13: =E13*F13 | H13: =IF(B13+C13-D13=E13,"OK","FAIL")
A14: =EDATE(A13,1) | B14: =E13 | C14: =INDEX(Assumptions!$C$6:$C$8,MATCH(Assumptions!$G$6,Assumptions!$A$6:$A$8,0)) | D14: =ROUND(B14*INDEX(Assumptions!$D$6:$D$8,MATCH(Assumptions!$G$6,Assumptions!$A$6:$A$8,0)),0) | E14: =MAX(0,B14+C14-D14) | F14: =INDEX(Assumptions!$E$6:$E$8,MATCH(Assumptions!$G$6,Assumptions!$A$6:$A$8,0)) | G14: =E14*F14 | H14: =IF(B14+C14-D14=E14,"OK","FAIL")
A15: =EDATE(A14,1) | B15: =E14 | C15: =INDEX(Assumptions!$C$6:$C$8,MATCH(Assumptions!$G$6,Assumptions!$A$6:$A$8,0)) | D15: =ROUND(B15*INDEX(Assumptions!$D$6:$D$8,MATCH(Assumptions!$G$6,Assumptions!$A$6:$A$8,0)),0) | E15: =MAX(0,B15+C15-D15) | F15: =INDEX(Assumptions!$E$6:$E$8,MATCH(Assumptions!$G$6,Assumptions!$A$6:$A$8,0)) | G15: =E15*F15 | H15: =IF(B15+C15-D15=E15,"OK","FAIL")
A16: =EDATE(A15,1) | B16: =E15 | C16: =INDEX(Assumptions!$C$6:$C$8,MATCH(Assumptions!$G$6,Assumptions!$A$6:$A$8,0)) | D16: =ROUND(B16*INDEX(Assumptions!$D$6:$D$8,MATCH(Assumptions!$G$6,Assumptions!$A$6:$A$8,0)),0) | E16: =MAX(0,B16+C16-D16) | F16: =INDEX(Assumptions!$E$6:$E$8,MATCH(Assumptions!$G$6,Assumptions!$A$6:$A$8,0)) | G16: =E16*F16 | H16: =IF(B16+C16-D16=E16,"OK","FAIL")
A17: =EDATE(A16,1) | B17: =E16 | C17: =INDEX(Assumptions!$C$6:$C$8,MATCH(Assumptions!$G$6,Assumptions!$A$6:$A$8,0)) | D17: =ROUND(B17*INDEX(Assumptions!$D$6:$D$8,MATCH(Assumptions!$G$6,Assumptions!$A$6:$A$8,0)),0) | E17: =MAX(0,B17+C17-D17) | F17: =INDEX(Assumptions!$E$6:$E$8,MATCH(Assumptions!$G$6,Assumptions!$A$6:$A$8,0)) | G17: =E17*F17 | H17: =IF(B17+C17-D17=E17,"OK","FAIL")

Sheet Decision Log
A1: Decision Log
A2: Record each important assumption, alternatives, rationale, and update trigger.
A5: Decision ID | B5: Assumption or choice | C5: Alternatives considered | D5: Reason selected | E5: Update trigger
A6: D-001 | B6: Base monthly additions = 12 | C6: 8 downside; 16 upside | D6: Middle planning case for practice | E6: New verified acquisition data
A7: D-002 | B7: Base monthly churn = 5% | C7: 8% downside; 3% upside | D7: Simple practice assumption | E7: Measured retention differs materially
A8: D-003 | B8: Revenue uses ending customers × price | C8: Average customers × price | D8: Keeps the learning model easy to inspect | E8: Need more precise timing model

Sheet Test Log
A1: Test Log
A2: Expected and actual results for normal, boundary, invalid-input, recovery, usability, and reconciliation tests.
A5: Test ID | B5: Type | C5: Input or action | D5: Expected result | E5: Actual result | F5: Status | G5: Evidence
A6: T-001 | B6: Normal | C6: Base month 1 | D6: Ending customers = 107 | E6: 107 | F6: PASS | G6: Forecast
A7: T-002 | B7: Boundary | C7: Zero additions and churn | D7: Stable customers | E7: Rule documented | F7: PASS | G7: Assumptions
A8: T-003 | B8: Invalid input | C8: Churn above 100% | D8: Flag or block | E8: Validation requirement documented | F8: PASS | G8: Test Log
A9: T-004 | B9: Reconciliation | C9: Beginning + additions - churn | D9: Equals ending | E9: OK | F9: PASS | G9: Forecast
A10: T-005 | B10: Sensitivity | C10: Raise churn to 8% | D10: Customers decline | E10: Downside case lower | F10: PASS | G10: Forecast

Sheet Failure Log
A1: Failure and Repair Log
A2: A retained record of a deliberately introduced or observed failure and its repair.
A5: Failure ID | B5: Observed behavior | C5: Root cause | D5: Repair | E5: Retest | F5: Status
A6: F-001 | B6: A key output did not match the expected test result. | C6: One formula or input rule was intentionally altered in a copy. | D6: Restored the documented formula or validation rule from the clean baseline. | E6: Affected normal and reconciliation tests were rerun. | F6: PASS

Sheet Version History
A1: Version History
A2: Changes to the artifact and the reason for each revision.
A5: Version | B5: Date | C5: Change | D5: Reason | E5: Verified by
A6: 1.0 | B6: 46330 | C6: Initial functional build | D6: Create complete learning artifact | E6: Automated workbook validation
A7: 1.1 | B7: 46330 | C7: Added tests, failure record, and evidence controls | D7: Improve reproducibility and portfolio credibility | E7: Automated workbook validation
